Package: LEA Version: 3.4.0 Command: chmod a+r LEA -R && C:\Users\biocbuild\bbs-3.13-bioc\R\bin\R.exe CMD build --keep-empty-dirs --no-resave-data LEA StartedAt: 2021-10-14 15:13:50 -0400 (Thu, 14 Oct 2021) EndedAt: 2021-10-14 15:16:18 -0400 (Thu, 14 Oct 2021) EllapsedTime: 147.4 seconds RetCode: 0 Status: OK PackageFile: LEA_3.4.0.tar.gz PackageFileSize: 628.3 KiB