Package: LEA Version: 3.4.0 Command: /Library/Frameworks/R.framework/Versions/Current/Resources/bin/R CMD build --keep-empty-dirs --no-resave-data LEA StartedAt: 2021-10-14 12:52:05 -0400 (Thu, 14 Oct 2021) EndedAt: 2021-10-14 12:54:02 -0400 (Thu, 14 Oct 2021) EllapsedTime: 117.4 seconds RetCode: 0 Status: OK PackageFile: LEA_3.4.0.tar.gz PackageFileSize: 625.8 KiB