Package: KnowSeq Version: 1.6.3 Command: rm -rf KnowSeq.buildbin-libdir && mkdir KnowSeq.buildbin-libdir && C:\Users\biocbuild\bbs-3.13-bioc\R\bin\R.exe CMD INSTALL --merge-multiarch --build --library=KnowSeq.buildbin-libdir KnowSeq_1.6.3.tar.gz StartedAt: 2021-10-15 10:02:56 -0400 (Fri, 15 Oct 2021) EndedAt: 2021-10-15 10:04:20 -0400 (Fri, 15 Oct 2021) EllapsedTime: 84.4 seconds RetCode: 0 Status: OK PackageFile: KnowSeq_1.6.3.zip PackageFileSize: 5.904 MiB