Package: KEGGprofile Version: 1.34.0 Command: /home/biocbuild/bbs-3.13-bioc/R/bin/R CMD INSTALL KEGGprofile StartedAt: 2021-10-14 06:38:31 -0400 (Thu, 14 Oct 2021) EndedAt: 2021-10-14 06:38:32 -0400 (Thu, 14 Oct 2021) EllapsedTime: 0.2 seconds RetCode: 1 Status: ERROR