Package: KEGGprofile Version: 1.34.0 Command: /home/biocbuild/bbs-3.13-bioc/R/bin/R CMD build --keep-empty-dirs --no-resave-data KEGGprofile StartedAt: 2021-10-14 07:34:56 -0400 (Thu, 14 Oct 2021) EndedAt: 2021-10-14 07:34:56 -0400 (Thu, 14 Oct 2021) EllapsedTime: 0.6 seconds RetCode: 1 Status: ERROR PackageFile: None PackageFileSize: NA