Package: KEGGprofile Version: 1.34.0 Command: /Library/Frameworks/R.framework/Versions/Current/Resources/bin/R CMD INSTALL KEGGprofile StartedAt: 2021-10-14 10:28:39 -0400 (Thu, 14 Oct 2021) EndedAt: 2021-10-14 10:28:40 -0400 (Thu, 14 Oct 2021) EllapsedTime: 0.3 seconds RetCode: 1 Status: ERROR