Package: KEGGprofile Version: 1.34.0 Command: /Library/Frameworks/R.framework/Versions/Current/Resources/bin/R CMD build --keep-empty-dirs --no-resave-data KEGGprofile StartedAt: 2021-10-14 12:50:56 -0400 (Thu, 14 Oct 2021) EndedAt: 2021-10-14 12:51:06 -0400 (Thu, 14 Oct 2021) EllapsedTime: 10.3 seconds RetCode: 1 Status: ERROR PackageFile: None PackageFileSize: NA