git_url: https://git.bioconductor.org/packages/KEGGprofile git_branch: RELEASE_3_13 git_last_commit: ba84540 git_last_commit_date: 2021-05-19 11:52:53 -0400 (Wed, 19 May 2021) Package: KEGGprofile Version: 1.34.0 Maintainer: Shilin Zhao MaintainerEmail: shilin.zhao at vanderbilt.edu