Package: KEGGgraph Version: 1.52.0 Command: /Library/Frameworks/R.framework/Versions/Current/Resources/bin/R CMD build --keep-empty-dirs --no-resave-data KEGGgraph StartedAt: 2021-10-14 12:50:21 -0400 (Thu, 14 Oct 2021) EndedAt: 2021-10-14 12:50:56 -0400 (Thu, 14 Oct 2021) EllapsedTime: 34.4 seconds RetCode: 0 Status: OK PackageFile: KEGGgraph_1.52.0.tar.gz PackageFileSize: 1.439 MiB