Package: KBoost Version: 1.0.0 Command: C:\cygwin\bin\curl.exe -O http://155.52.207.165/BBS/3.13/bioc/src/contrib/KBoost_1.0.0.tar.gz && rm -rf KBoost.buildbin-libdir && mkdir KBoost.buildbin-libdir && C:\Users\biocbuild\bbs-3.13-bioc\R\bin\R.exe CMD INSTALL --merge-multiarch --build --library=KBoost.buildbin-libdir KBoost_1.0.0.tar.gz && C:\Users\biocbuild\bbs-3.13-bioc\R\bin\R.exe CMD INSTALL KBoost_1.0.0.zip && rm KBoost_1.0.0.tar.gz KBoost_1.0.0.zip StartedAt: 2021-10-14 07:57:22 -0400 (Thu, 14 Oct 2021) EndedAt: 2021-10-14 07:58:03 -0400 (Thu, 14 Oct 2021) EllapsedTime: 40.1 seconds RetCode: 0 Status: OK