Package: IsoGeneGUI Version: 2.28.0 Command: /Library/Frameworks/R.framework/Versions/Current/Resources/bin/R CMD INSTALL IsoGeneGUI StartedAt: 2021-10-14 09:28:52 -0400 (Thu, 14 Oct 2021) EndedAt: 2021-10-14 09:29:47 -0400 (Thu, 14 Oct 2021) EllapsedTime: 55.1 seconds RetCode: 0 Status: OK