Package: IsoCorrectoR Version: 1.10.0 Command: /Library/Frameworks/R.framework/Versions/Current/Resources/bin/R CMD check --install=check:IsoCorrectoR.install-out.txt --library=/Library/Frameworks/R.framework/Versions/Current/Resources/library --no-vignettes --timings IsoCorrectoR_1.10.0.tar.gz StartedAt: 2021-10-14 20:19:56 -0400 (Thu, 14 Oct 2021) EndedAt: 2021-10-14 20:22:42 -0400 (Thu, 14 Oct 2021) EllapsedTime: 165.5 seconds RetCode: 0 Status: OK CheckDir: IsoCorrectoR.Rcheck Warnings: 0