Package: InterMineR Version: 1.14.1 Command: chmod a+r InterMineR -R && C:\Users\biocbuild\bbs-3.13-bioc\R\bin\R.exe CMD build --keep-empty-dirs --no-resave-data InterMineR StartedAt: 2021-10-14 15:06:34 -0400 (Thu, 14 Oct 2021) EndedAt: 2021-10-14 15:08:32 -0400 (Thu, 14 Oct 2021) EllapsedTime: 118.1 seconds RetCode: 0 Status: OK PackageFile: InterMineR_1.14.1.tar.gz PackageFileSize: 4.897 MiB