Package: InterMineR Version: 1.14.1 Command: /Library/Frameworks/R.framework/Versions/Current/Resources/bin/R CMD INSTALL InterMineR StartedAt: 2021-10-14 09:12:23 -0400 (Thu, 14 Oct 2021) EndedAt: 2021-10-14 09:13:15 -0400 (Thu, 14 Oct 2021) EllapsedTime: 52.5 seconds RetCode: 0 Status: OK