Package: InterMineR Version: 1.14.1 Command: /Library/Frameworks/R.framework/Versions/Current/Resources/bin/R CMD build --keep-empty-dirs --no-resave-data InterMineR StartedAt: 2021-10-14 12:46:23 -0400 (Thu, 14 Oct 2021) EndedAt: 2021-10-14 12:47:38 -0400 (Thu, 14 Oct 2021) EllapsedTime: 74.6 seconds RetCode: 0 Status: OK PackageFile: InterMineR_1.14.1.tar.gz PackageFileSize: 4.911 MiB