Package: InterMineR Version: 1.14.1 Command: rm -rf InterMineR.buildbin-libdir && mkdir InterMineR.buildbin-libdir && /Users/biocbuild/BBS/utils/build-universal.sh InterMineR_1.14.1.tar.gz /Library/Frameworks/R.framework/Versions/Current/Resources/bin/R InterMineR.buildbin-libdir StartedAt: 2021-10-15 02:49:20 -0400 (Fri, 15 Oct 2021) EndedAt: 2021-10-15 02:50:24 -0400 (Fri, 15 Oct 2021) EllapsedTime: 63.6 seconds RetCode: 0 Status: OK PackageFile: InterMineR_1.14.1.tgz PackageFileSize: 751.4 KiB