git_url: https://git.bioconductor.org/packages/InterCellar git_branch: RELEASE_3_13 git_last_commit: 094f1da git_last_commit_date: 2021-05-19 13:00:45 -0400 (Wed, 19 May 2021) Package: InterCellar Version: 1.0.0 Maintainer: Marta Interlandi MaintainerEmail: marta.interlandi01 at gmail.com