Package: IntEREst Version: 1.16.0 Command: chmod a+r IntEREst -R && C:\Users\biocbuild\bbs-3.13-bioc\R\bin\R.exe CMD build --keep-empty-dirs --no-resave-data IntEREst StartedAt: 2021-10-14 15:06:25 -0400 (Thu, 14 Oct 2021) EndedAt: 2021-10-14 15:11:01 -0400 (Thu, 14 Oct 2021) EllapsedTime: 275.5 seconds RetCode: 0 Status: OK PackageFile: IntEREst_1.16.0.tar.gz PackageFileSize: 1.397 MiB