Package: Informeasure Version: 1.2.0 Command: /Library/Frameworks/R.framework/Versions/Current/Resources/bin/R CMD INSTALL Informeasure StartedAt: 2021-10-14 08:06:40 -0400 (Thu, 14 Oct 2021) EndedAt: 2021-10-14 08:07:30 -0400 (Thu, 14 Oct 2021) EllapsedTime: 49.8 seconds RetCode: 0 Status: OK