Package: IgGeneUsage Version: 1.6.0 Command: /Library/Frameworks/R.framework/Versions/Current/Resources/bin/R CMD INSTALL IgGeneUsage StartedAt: 2021-10-14 09:16:00 -0400 (Thu, 14 Oct 2021) EndedAt: 2021-10-14 09:16:54 -0400 (Thu, 14 Oct 2021) EllapsedTime: 54.6 seconds RetCode: 0 Status: OK