git_url: https://git.bioconductor.org/packages/IgGeneUsage git_branch: RELEASE_3_13 git_last_commit: add6692 git_last_commit_date: 2021-05-19 12:45:18 -0400 (Wed, 19 May 2021) Package: IgGeneUsage Version: 1.6.0 Maintainer: Simo Kitanovski MaintainerEmail: simo.kitanovski at uni-due.de