Package: ISoLDE Version: 1.20.0 Command: /home/biocbuild/bbs-3.13-bioc/R/bin/R CMD INSTALL ISoLDE StartedAt: 2021-10-14 06:02:24 -0400 (Thu, 14 Oct 2021) EndedAt: 2021-10-14 06:02:35 -0400 (Thu, 14 Oct 2021) EllapsedTime: 10.2 seconds RetCode: 0 Status: OK