Package: ISoLDE Version: 1.20.0 Command: /Library/Frameworks/R.framework/Versions/Current/Resources/bin/R CMD check --install=check:ISoLDE.install-out.txt --library=/Library/Frameworks/R.framework/Versions/Current/Resources/library --no-vignettes --timings ISoLDE_1.20.0.tar.gz StartedAt: 2021-10-14 20:20:39 -0400 (Thu, 14 Oct 2021) EndedAt: 2021-10-14 20:22:30 -0400 (Thu, 14 Oct 2021) EllapsedTime: 111.1 seconds RetCode: 0 Status: WARNINGS CheckDir: ISoLDE.Rcheck Warnings: 1