Package: ISAnalytics Version: 1.2.1 Command: C:\cygwin\bin\curl.exe -O http://155.52.207.165/BBS/3.13/bioc/src/contrib/ISAnalytics_1.2.1.tar.gz && rm -rf ISAnalytics.buildbin-libdir && mkdir ISAnalytics.buildbin-libdir && C:\Users\biocbuild\bbs-3.13-bioc\R\bin\R.exe CMD INSTALL --merge-multiarch --build --library=ISAnalytics.buildbin-libdir ISAnalytics_1.2.1.tar.gz && C:\Users\biocbuild\bbs-3.13-bioc\R\bin\R.exe CMD INSTALL ISAnalytics_1.2.1.zip && rm ISAnalytics_1.2.1.tar.gz ISAnalytics_1.2.1.zip StartedAt: 2021-10-14 09:56:06 -0400 (Thu, 14 Oct 2021) EndedAt: 2021-10-14 09:57:08 -0400 (Thu, 14 Oct 2021) EllapsedTime: 62.5 seconds RetCode: 0 Status: OK