############################################################################## ############################################################################## ### ### Running command: ### ### chmod a+r ISAnalytics -R && C:\Users\biocbuild\bbs-3.13-bioc\R\bin\R.exe CMD build --keep-empty-dirs --no-resave-data ISAnalytics ### ############################################################################## ############################################################################## * checking for file 'ISAnalytics/DESCRIPTION' ... OK * preparing 'ISAnalytics': * checking DESCRIPTION meta-information ... OK * installing the package to process help pages * building the PDF package manual Hmm ... looks like a package Converting Rd files to LaTeX .... Creating pdf output from LaTeX ... Saving output to 'C:/Users/biocbuild/bbs-3.13-bioc/tmpdir/RtmpySn8Gs/Rbuild2d1466dce95/ISAnalytics/build/ISAnalytics.pdf' ... Done * creating vignettes ... OK * checking for LF line-endings in source and make files and shell scripts * checking for empty or unneeded directories Omitted 'LazyData' from DESCRIPTION * building 'ISAnalytics_1.2.1.tar.gz'