Package: ISAnalytics Version: 1.2.1 Command: /Library/Frameworks/R.framework/Versions/Current/Resources/bin/R CMD build --keep-empty-dirs --no-resave-data ISAnalytics StartedAt: 2021-10-14 12:47:17 -0400 (Thu, 14 Oct 2021) EndedAt: 2021-10-14 12:48:27 -0400 (Thu, 14 Oct 2021) EllapsedTime: 70.1 seconds RetCode: 0 Status: OK PackageFile: ISAnalytics_1.2.1.tar.gz PackageFileSize: 3.156 MiB