git_url: https://git.bioconductor.org/packages/IRISFGM git_branch: RELEASE_3_13 git_last_commit: aacc387 git_last_commit_date: 2021-05-19 12:59:57 -0400 (Wed, 19 May 2021) Package: IRISFGM Version: 1.0.0 Maintainer: Yuzhou Chang MaintainerEmail: yuzhou.chang at osumc.edu