git_url: https://git.bioconductor.org/packages/INSPEcT git_branch: RELEASE_3_13 git_last_commit: b877791 git_last_commit_date: 2021-05-19 12:14:25 -0400 (Wed, 19 May 2021) Package: INSPEcT Version: 1.22.0 Maintainer: Stefano de Pretis MaintainerEmail: ste.depo at gmail.com