Package: INDEED Version: 2.6.0 Command: /home/biocbuild/bbs-3.13-bioc/R/bin/R CMD build --keep-empty-dirs --no-resave-data INDEED StartedAt: 2021-10-14 07:31:24 -0400 (Thu, 14 Oct 2021) EndedAt: 2021-10-14 07:31:30 -0400 (Thu, 14 Oct 2021) EllapsedTime: 5.9 seconds RetCode: 0 Status: OK PackageFile: INDEED_2.6.0.tar.gz PackageFileSize: 1.857 MiB