Package: INDEED Version: 2.6.0 Command: /Library/Frameworks/R.framework/Versions/Current/Resources/bin/R CMD INSTALL INDEED StartedAt: 2021-10-14 09:47:16 -0400 (Thu, 14 Oct 2021) EndedAt: 2021-10-14 09:48:10 -0400 (Thu, 14 Oct 2021) EllapsedTime: 53.9 seconds RetCode: 0 Status: OK