Package: INDEED Version: 2.6.0 Command: /Library/Frameworks/R.framework/Versions/Current/Resources/bin/R CMD check --install=check:INDEED.install-out.txt --library=/Library/Frameworks/R.framework/Versions/Current/Resources/library --no-vignettes --timings INDEED_2.6.0.tar.gz StartedAt: 2021-10-14 20:11:22 -0400 (Thu, 14 Oct 2021) EndedAt: 2021-10-14 20:12:38 -0400 (Thu, 14 Oct 2021) EllapsedTime: 75.9 seconds RetCode: 0 Status: OK CheckDir: INDEED.Rcheck Warnings: 0