git_url: https://git.bioconductor.org/packages/INDEED git_branch: RELEASE_3_13 git_last_commit: c8037cf git_last_commit_date: 2021-05-19 12:37:07 -0400 (Wed, 19 May 2021) Package: INDEED Version: 2.6.0 Maintainer: Ressom group MaintainerEmail: hwr at georgetown.edu