Package: HybridMTest Version: 1.36.0 Command: chmod a+r HybridMTest -R && C:\Users\biocbuild\bbs-3.13-bioc\R\bin\R.exe CMD build --keep-empty-dirs --no-resave-data HybridMTest StartedAt: 2021-10-14 14:57:47 -0400 (Thu, 14 Oct 2021) EndedAt: 2021-10-14 14:58:50 -0400 (Thu, 14 Oct 2021) EllapsedTime: 63.5 seconds RetCode: 0 Status: OK PackageFile: HybridMTest_1.36.0.tar.gz PackageFileSize: 203.1 KiB