Package: HubPub Version: 1.0.0 Command: /home/biocbuild/bbs-3.13-bioc/R/bin/R CMD build --keep-empty-dirs --no-resave-data HubPub StartedAt: 2021-10-14 07:29:46 -0400 (Thu, 14 Oct 2021) EndedAt: 2021-10-14 07:30:25 -0400 (Thu, 14 Oct 2021) EllapsedTime: 38.7 seconds RetCode: 0 Status: OK PackageFile: HubPub_1.0.0.tar.gz PackageFileSize: 288.4 KiB