Package: HiTC Version: 1.36.0 Command: /Library/Frameworks/R.framework/Versions/Current/Resources/bin/R CMD build --keep-empty-dirs --no-resave-data HiTC StartedAt: 2021-10-14 12:37:29 -0400 (Thu, 14 Oct 2021) EndedAt: 2021-10-14 12:41:24 -0400 (Thu, 14 Oct 2021) EllapsedTime: 235.0 seconds RetCode: 0 Status: OK PackageFile: HiTC_1.36.0.tar.gz PackageFileSize: 3.113 MiB