Package: HiCBricks Version: 1.10.0 Command: C:\Users\biocbuild\bbs-3.13-bioc\R\bin\R.exe CMD check --force-multiarch --install=check:HiCBricks.install-out.txt --library=C:\Users\biocbuild\bbs-3.13-bioc\R\library --no-vignettes --timings HiCBricks_1.10.0.tar.gz StartedAt: 2021-10-15 00:21:45 -0400 (Fri, 15 Oct 2021) EndedAt: 2021-10-15 00:30:19 -0400 (Fri, 15 Oct 2021) EllapsedTime: 513.8 seconds RetCode: 0 Status: OK CheckDir: HiCBricks.Rcheck Warnings: 0