Package: HiCBricks Version: 1.10.0 Command: /Library/Frameworks/R.framework/Versions/Current/Resources/bin/R CMD INSTALL HiCBricks StartedAt: 2021-10-14 09:41:16 -0400 (Thu, 14 Oct 2021) EndedAt: 2021-10-14 09:42:01 -0400 (Thu, 14 Oct 2021) EllapsedTime: 45.0 seconds RetCode: 0 Status: OK