Package: HiCBricks Version: 1.10.0 Command: rm -rf HiCBricks.buildbin-libdir && mkdir HiCBricks.buildbin-libdir && /Users/biocbuild/BBS/utils/build-universal.sh HiCBricks_1.10.0.tar.gz /Library/Frameworks/R.framework/Versions/Current/Resources/bin/R HiCBricks.buildbin-libdir StartedAt: 2021-10-15 02:42:47 -0400 (Fri, 15 Oct 2021) EndedAt: 2021-10-15 02:43:57 -0400 (Fri, 15 Oct 2021) EllapsedTime: 70.6 seconds RetCode: 0 Status: OK PackageFile: HiCBricks_1.10.0.tgz PackageFileSize: 5.46 MiB