Package: HelloRanges Version: 1.18.0 Command: /home/biocbuild/bbs-3.13-bioc/R/bin/R CMD INSTALL HelloRanges StartedAt: 2021-10-14 06:25:19 -0400 (Thu, 14 Oct 2021) EndedAt: 2021-10-14 06:25:59 -0400 (Thu, 14 Oct 2021) EllapsedTime: 39.9 seconds RetCode: 0 Status: OK