Package: Heatplus Version: 3.0.0 Command: chmod a+r Heatplus -R && C:\Users\biocbuild\bbs-3.13-bioc\R\bin\R.exe CMD build --keep-empty-dirs --no-resave-data Heatplus StartedAt: 2021-10-14 14:50:48 -0400 (Thu, 14 Oct 2021) EndedAt: 2021-10-14 14:51:41 -0400 (Thu, 14 Oct 2021) EllapsedTime: 53.0 seconds RetCode: 0 Status: OK PackageFile: Heatplus_3.0.0.tar.gz PackageFileSize: 900.4 KiB