Package: Heatplus Version: 3.0.0 Command: rm -rf Heatplus.buildbin-libdir && mkdir Heatplus.buildbin-libdir && C:\Users\biocbuild\bbs-3.13-bioc\R\bin\R.exe CMD INSTALL --merge-multiarch --build --library=Heatplus.buildbin-libdir Heatplus_3.0.0.tar.gz StartedAt: 2021-10-15 09:46:27 -0400 (Fri, 15 Oct 2021) EndedAt: 2021-10-15 09:48:00 -0400 (Fri, 15 Oct 2021) EllapsedTime: 92.8 seconds RetCode: 0 Status: OK PackageFile: Heatplus_3.0.0.zip PackageFileSize: 1.005 MiB