Package: Heatplus Version: 3.0.0 Command: rm -rf Heatplus.buildbin-libdir && mkdir Heatplus.buildbin-libdir && /Users/biocbuild/BBS/utils/build-universal.sh Heatplus_3.0.0.tar.gz /Library/Frameworks/R.framework/Versions/Current/Resources/bin/R Heatplus.buildbin-libdir StartedAt: 2021-10-15 02:42:13 -0400 (Fri, 15 Oct 2021) EndedAt: 2021-10-15 02:43:25 -0400 (Fri, 15 Oct 2021) EllapsedTime: 71.6 seconds RetCode: 0 Status: OK PackageFile: Heatplus_3.0.0.tgz PackageFileSize: 978.8 KiB