git_url: https://git.bioconductor.org/packages/Harshlight git_branch: RELEASE_3_13 git_last_commit: 0da8ef4 git_last_commit_date: 2021-05-19 11:37:44 -0400 (Wed, 19 May 2021) Package: Harshlight Version: 1.64.0 Maintainer: Maurizio Pellegrino MaintainerEmail: mpellegri at berkeley.edu