Package: HTqPCR Version: 1.46.0 Command: /home/biocbuild/bbs-3.13-bioc/R/bin/R CMD check --install=check:HTqPCR.install-out.txt --library=/home/biocbuild/bbs-3.13-bioc/R/library --no-vignettes --timings HTqPCR_1.46.0.tar.gz StartedAt: 2021-10-14 10:12:22 -0400 (Thu, 14 Oct 2021) EndedAt: 2021-10-14 10:13:06 -0400 (Thu, 14 Oct 2021) EllapsedTime: 44.4 seconds RetCode: 0 Status: OK CheckDir: HTqPCR.Rcheck Warnings: 0