Package: HTqPCR Version: 1.46.0 Command: /Library/Frameworks/R.framework/Versions/Current/Resources/bin/R CMD INSTALL HTqPCR StartedAt: 2021-10-14 08:34:03 -0400 (Thu, 14 Oct 2021) EndedAt: 2021-10-14 08:34:47 -0400 (Thu, 14 Oct 2021) EllapsedTime: 43.4 seconds RetCode: 0 Status: OK