Package: HPAStainR Version: 1.2.1 Command: C:\cygwin\bin\curl.exe -O http://155.52.207.165/BBS/3.13/bioc/src/contrib/HPAStainR_1.2.1.tar.gz && rm -rf HPAStainR.buildbin-libdir && mkdir HPAStainR.buildbin-libdir && C:\Users\biocbuild\bbs-3.13-bioc\R\bin\R.exe CMD INSTALL --merge-multiarch --build --library=HPAStainR.buildbin-libdir HPAStainR_1.2.1.tar.gz && C:\Users\biocbuild\bbs-3.13-bioc\R\bin\R.exe CMD INSTALL HPAStainR_1.2.1.zip && rm HPAStainR_1.2.1.tar.gz HPAStainR_1.2.1.zip StartedAt: 2021-10-14 09:53:30 -0400 (Thu, 14 Oct 2021) EndedAt: 2021-10-14 09:53:58 -0400 (Thu, 14 Oct 2021) EllapsedTime: 27.9 seconds RetCode: 0 Status: OK