Package: HPAStainR Version: 1.2.1 Command: C:\Users\biocbuild\bbs-3.13-bioc\R\bin\R.exe CMD check --force-multiarch --install=check:HPAStainR.install-out.txt --library=C:\Users\biocbuild\bbs-3.13-bioc\R\library --no-vignettes --timings HPAStainR_1.2.1.tar.gz StartedAt: 2021-10-15 00:29:50 -0400 (Fri, 15 Oct 2021) EndedAt: 2021-10-15 00:37:35 -0400 (Fri, 15 Oct 2021) EllapsedTime: 465.0 seconds RetCode: 0 Status: OK CheckDir: HPAStainR.Rcheck Warnings: 0