Package: HPAStainR Version: 1.2.1 Command: chmod a+r HPAStainR -R && C:\Users\biocbuild\bbs-3.13-bioc\R\bin\R.exe CMD build --keep-empty-dirs --no-resave-data HPAStainR StartedAt: 2021-10-14 14:56:33 -0400 (Thu, 14 Oct 2021) EndedAt: 2021-10-14 14:57:18 -0400 (Thu, 14 Oct 2021) EllapsedTime: 44.5 seconds RetCode: 0 Status: OK PackageFile: HPAStainR_1.2.1.tar.gz PackageFileSize: 188.7 KiB