Package: HIPPO Version: 1.4.0 Command: /Library/Frameworks/R.framework/Versions/Current/Resources/bin/R CMD INSTALL HIPPO StartedAt: 2021-10-14 09:13:42 -0400 (Thu, 14 Oct 2021) EndedAt: 2021-10-14 09:14:36 -0400 (Thu, 14 Oct 2021) EllapsedTime: 54.4 seconds RetCode: 0 Status: OK