Package: HIPPO Version: 1.4.0 Command: rm -rf HIPPO.buildbin-libdir && mkdir HIPPO.buildbin-libdir && /Users/biocbuild/BBS/utils/build-universal.sh HIPPO_1.4.0.tar.gz /Library/Frameworks/R.framework/Versions/Current/Resources/bin/R HIPPO.buildbin-libdir StartedAt: 2021-10-15 02:43:36 -0400 (Fri, 15 Oct 2021) EndedAt: 2021-10-15 02:44:46 -0400 (Fri, 15 Oct 2021) EllapsedTime: 70.5 seconds RetCode: 0 Status: OK PackageFile: HIPPO_1.4.0.tgz PackageFileSize: 976.7 KiB